BEGIN:VCALENDAR
VERSION:2.0
PRODID:-//Kids Free to Grow - ECPv6.15.20//NONSGML v1.0//EN
CALSCALE:GREGORIAN
METHOD:PUBLISH
X-ORIGINAL-URL:https://kidsfreetogrow.org
X-WR-CALDESC:Events for Kids Free to Grow
REFRESH-INTERVAL;VALUE=DURATION:PT1H
X-Robots-Tag:noindex
X-PUBLISHED-TTL:PT1H
BEGIN:VTIMEZONE
TZID:UTC
BEGIN:STANDARD
TZOFFSETFROM:+0000
TZOFFSETTO:+0000
TZNAME:UTC
DTSTART:20240101T000000
END:STANDARD
END:VTIMEZONE
BEGIN:VEVENT
DTSTART;TZID=UTC:20250804T110000
DTEND;TZID=UTC:20250804T120000
DTSTAMP:20260423T102214
CREATED:20250721T164544Z
LAST-MODIFIED:20250721T164544Z
UID:1605-1754305200-1754308800@kidsfreetogrow.org
SUMMARY:Virtual Nurturing Parenting; Through Recovery
DESCRIPTION:The Nurturing parenting program is our evidence based\, trauma informed\, family centered curriculum approved by the Maine Children’s trust. Specifically\, the Through Recovery program is the curriculum branch commonly administered alongside a 12-step program\, and promotes mutuality\, authenticity\, and empathy. The program explores the effects of substance use on themselves and their families\, identifying childhood experiences\, strengths\, and fears\, to promote and strengthen their recovery. We build nurturing skills through a variety of activities and techniques\, examining the parallels of their own experiences and their children’s. \nPlease submit your registration for the program before the class start time. You can Register here: Class Registration Form.  \nWe hope to see you there!
URL:https://kidsfreetogrow.org/event/virtual-nurturing-parenting-through-recovery/
LOCATION:ME
CATEGORIES:Parenting Classes
ORGANIZER;CN="Hannah Collier":MAILTO:hannahc@kidsfreetogrow.org
END:VEVENT
END:VCALENDAR