BEGIN:VCALENDAR
VERSION:2.0
PRODID:-//Kids Free to Grow - ECPv6.15.20//NONSGML v1.0//EN
CALSCALE:GREGORIAN
METHOD:PUBLISH
X-ORIGINAL-URL:https://kidsfreetogrow.org
X-WR-CALDESC:Events for Kids Free to Grow
REFRESH-INTERVAL;VALUE=DURATION:PT1H
X-Robots-Tag:noindex
X-PUBLISHED-TTL:PT1H
BEGIN:VTIMEZONE
TZID:UTC
BEGIN:STANDARD
TZOFFSETFROM:+0000
TZOFFSETTO:+0000
TZNAME:UTC
DTSTART:20240101T000000
END:STANDARD
END:VTIMEZONE
BEGIN:VTIMEZONE
TZID:America/New_York
BEGIN:DAYLIGHT
TZOFFSETFROM:-0500
TZOFFSETTO:-0400
TZNAME:EDT
DTSTART:20250309T070000
END:DAYLIGHT
BEGIN:STANDARD
TZOFFSETFROM:-0400
TZOFFSETTO:-0500
TZNAME:EST
DTSTART:20251102T060000
END:STANDARD
BEGIN:DAYLIGHT
TZOFFSETFROM:-0500
TZOFFSETTO:-0400
TZNAME:EDT
DTSTART:20260308T070000
END:DAYLIGHT
BEGIN:STANDARD
TZOFFSETFROM:-0400
TZOFFSETTO:-0500
TZNAME:EST
DTSTART:20261101T060000
END:STANDARD
BEGIN:DAYLIGHT
TZOFFSETFROM:-0500
TZOFFSETTO:-0400
TZNAME:EDT
DTSTART:20270314T070000
END:DAYLIGHT
BEGIN:STANDARD
TZOFFSETFROM:-0400
TZOFFSETTO:-0500
TZNAME:EST
DTSTART:20271107T060000
END:STANDARD
END:VTIMEZONE
BEGIN:VEVENT
DTSTART;TZID=UTC:20250828T180000
DTEND;TZID=UTC:20250828T200000
DTSTAMP:20260426T001807
CREATED:20250721T164125Z
LAST-MODIFIED:20250721T164125Z
UID:1603-1756404000-1756411200@kidsfreetogrow.org
SUMMARY:Virtual Nurturing Fathers
DESCRIPTION:The Nurturing Parenting Program is our family-centered trauma-informed curriculum designed to build nurturing parenting skills within family structures. The Nurturing Fathers branch of the curriculum focuses exclusively on men\, fathers\, and their unique experiences. Held virtually on every Thursday evening\, the evidence-based Nurturing philosophy has provided families with the knowledge and ability to connect and leader their families. We are proud to offer this program free of charge to our community. There will be 10 sessions in the series\, you must attend 8 of them for a full completion certificate. \nPlease submit your registration for the program before the class start time. You can Register here: Class Registration Form.  \nWe hope to see you there!
URL:https://kidsfreetogrow.org/event/virtual-nurturing-fathers-4/
CATEGORIES:Parenting Classes
ORGANIZER;CN="Hannah Collier":MAILTO:hannahc@kidsfreetogrow.org
END:VEVENT
BEGIN:VEVENT
DTSTART;TZID=America/New_York:20260418T120000
DTEND;TZID=America/New_York:20260418T140000
DTSTAMP:20260426T001807
CREATED:20260402T204212Z
LAST-MODIFIED:20260402T204212Z
UID:1646-1776513600-1776520800@kidsfreetogrow.org
SUMMARY:Bath YMCA Healthy Kids Day
DESCRIPTION:Please join Kids Free to Grow and many other community partners for the Bath YMCA’s Healthy Kids day! Bring your family for fun\, activities\, and community connection.
URL:https://kidsfreetogrow.org/event/bath-ymca-healthy-kids-day/
LOCATION:Bath YMCA\, 303 Centre Street\, Bath\, ME\, 04530\, United States
ORGANIZER;CN="Hannah Collier":MAILTO:hannahc@kidsfreetogrow.org
END:VEVENT
BEGIN:VEVENT
DTSTART;TZID=America/New_York:20260425T100000
DTEND;TZID=America/New_York:20260425T130000
DTSTAMP:20260426T001807
CREATED:20260402T203527Z
LAST-MODIFIED:20260402T203527Z
UID:1644-1777111200-1777122000@kidsfreetogrow.org
SUMMARY:Sanford Health Kids Day
DESCRIPTION:Please join us at the Sanford Springvale YMCA for their Annual Healthy Kids Day! Bring the family for a morning of fun\, activities\, and community support.
URL:https://kidsfreetogrow.org/event/sanford-health-kids-day/
LOCATION:Sanford YMCA\, 1 Emile Levasseur Dr\, Sanford\, ME\, 04073
ORGANIZER;CN="Shannon Briggs":MAILTO:shannonb@kidsfreetogrow.org
END:VEVENT
END:VCALENDAR